BEGIN:VCALENDAR
VERSION:2.0
PRODID:-//Aletheia College Park Church - ECPv6.11.0.1//NONSGML v1.0//EN
CALSCALE:GREGORIAN
METHOD:PUBLISH
X-ORIGINAL-URL:https://aletheiacollegepark.com
X-WR-CALDESC:Events for Aletheia College Park Church
REFRESH-INTERVAL;VALUE=DURATION:PT1H
X-Robots-Tag:noindex
X-PUBLISHED-TTL:PT1H
BEGIN:VTIMEZONE
TZID:America/New_York
BEGIN:DAYLIGHT
TZOFFSETFROM:-0500
TZOFFSETTO:-0400
TZNAME:EDT
DTSTART:20250309T070000
END:DAYLIGHT
BEGIN:STANDARD
TZOFFSETFROM:-0400
TZOFFSETTO:-0500
TZNAME:EST
DTSTART:20251102T060000
END:STANDARD
END:VTIMEZONE
BEGIN:VEVENT
DTSTART;TZID=America/New_York:20250421T190000
DTEND;TZID=America/New_York:20250421T203000
DTSTAMP:20260422T183203
CREATED:20210904T173646Z
LAST-MODIFIED:20250123T220054Z
UID:7205-1745262000-1745267400@aletheiacollegepark.com
SUMMARY:Apologetics Seminar
DESCRIPTION:
URL:https://aletheiacollegepark.com/event/apologetics-historicity-of-the-resurrection/
LOCATION:Pyon Su 2108
CATEGORIES:@UMD,Apologetics
ATTACH;FMTTYPE=image/png:https://aletheiacollegepark.com/wp-content/uploads/2021/08/apologetics.png
ORGANIZER;CN="Ramin Lolachi":MAILTO:rlolachi@gmail.com
END:VEVENT
END:VCALENDAR