BEGIN:VCALENDAR
VERSION:2.0
PRODID:-//Aletheia College Park Church - ECPv6.11.0.1//NONSGML v1.0//EN
CALSCALE:GREGORIAN
METHOD:PUBLISH
X-WR-CALNAME:Aletheia College Park Church
X-ORIGINAL-URL:https://aletheiacollegepark.com
X-WR-CALDESC:Events for Aletheia College Park Church
REFRESH-INTERVAL;VALUE=DURATION:PT1H
X-Robots-Tag:noindex
X-PUBLISHED-TTL:PT1H
BEGIN:VTIMEZONE
TZID:America/New_York
BEGIN:DAYLIGHT
TZOFFSETFROM:-0500
TZOFFSETTO:-0400
TZNAME:EDT
DTSTART:20210314T070000
END:DAYLIGHT
BEGIN:STANDARD
TZOFFSETFROM:-0400
TZOFFSETTO:-0500
TZNAME:EST
DTSTART:20211107T060000
END:STANDARD
END:VTIMEZONE
BEGIN:VEVENT
DTSTART;TZID=America/New_York:20211114T090000
DTEND;TZID=America/New_York:20211114T100000
DTSTAMP:20260421T190801
CREATED:20210918T140451Z
LAST-MODIFIED:20210918T140959Z
UID:7226-1636880400-1636884000@aletheiacollegepark.com
SUMMARY:Prayer Meeting
DESCRIPTION:Once a month\, Sunday morning\, our church gathers together before service to pray for each other\, our neighborhood\, and around the world.
URL:https://aletheiacollegepark.com/event/prayer-meeting-5/
LOCATION:Paint Branch Elementry
CATEGORIES:Prayer Ministry
ATTACH;FMTTYPE=image/jpeg:https://aletheiacollegepark.com/wp-content/uploads/2019/08/Prayer-Ministry.jpg
ORGANIZER;CN="Justin Berrios":MAILTO:berrios3@terpmail.umd.edu
END:VEVENT
END:VCALENDAR