BEGIN:VCALENDAR
VERSION:2.0
PRODID:-//Aletheia College Park Church - ECPv6.11.0.1//NONSGML v1.0//EN
CALSCALE:GREGORIAN
METHOD:PUBLISH
X-WR-CALNAME:Aletheia College Park Church
X-ORIGINAL-URL:https://aletheiacollegepark.com
X-WR-CALDESC:Events for Aletheia College Park Church
REFRESH-INTERVAL;VALUE=DURATION:PT1H
X-Robots-Tag:noindex
X-PUBLISHED-TTL:PT1H
BEGIN:VTIMEZONE
TZID:America/New_York
BEGIN:DAYLIGHT
TZOFFSETFROM:-0500
TZOFFSETTO:-0400
TZNAME:EDT
DTSTART:20210314T070000
END:DAYLIGHT
BEGIN:STANDARD
TZOFFSETFROM:-0400
TZOFFSETTO:-0500
TZNAME:EST
DTSTART:20211107T060000
END:STANDARD
END:VTIMEZONE
BEGIN:VEVENT
DTSTART;TZID=America/New_York:20210913T190000
DTEND;TZID=America/New_York:20210913T203000
DTSTAMP:20260421T160805
CREATED:20210813T192800Z
LAST-MODIFIED:20210825T184322Z
UID:7179-1631559600-1631565000@aletheiacollegepark.com
SUMMARY:How to do Apologetics
DESCRIPTION:Apologetics isn’t about saying sorry for your faith but comes from the Greek ‘apologia’ meaning a reasoned defense. It seeks to explore popular questions like “If God is good why is there so much suffering?” and “How can you be a Christian and a scientist?” and “Is the Bible reliable?”. In today’s secular society the need for answers to these questions and others is more important than ever.  We are starting an apologetics group that aims to equip those new and old to the subject and then go on to witnessing at the UMD campus.  \n“How to do Apologetics”\, is a discussion on basic apologetics techniques.  Each session will feature a talk about 20 to 40 mins in length followed by 20 to 40 mins of group discussion. \nIf you would like to know more\, please email rlolachi@gmail.com.
URL:https://aletheiacollegepark.com/event/how-to-do-apologetics/
LOCATION:Greenbelt Baptist Church\, 101 Greenhill Rd\, Greenbelt\, MD\, 20770
CATEGORIES:Apologetics
ATTACH;FMTTYPE=image/png:https://aletheiacollegepark.com/wp-content/uploads/2021/08/apologetics.png
ORGANIZER;CN="Ramin Lolachi":MAILTO:rlolachi@gmail.com
END:VEVENT
END:VCALENDAR