BEGIN:VCALENDAR
VERSION:2.0
PRODID:-//Aletheia College Park Church - ECPv6.11.0.1//NONSGML v1.0//EN
CALSCALE:GREGORIAN
METHOD:PUBLISH
X-ORIGINAL-URL:https://aletheiacollegepark.com
X-WR-CALDESC:Events for Aletheia College Park Church
REFRESH-INTERVAL;VALUE=DURATION:PT1H
X-Robots-Tag:noindex
X-PUBLISHED-TTL:PT1H
BEGIN:VTIMEZONE
TZID:America/New_York
BEGIN:DAYLIGHT
TZOFFSETFROM:-0500
TZOFFSETTO:-0400
TZNAME:EDT
DTSTART:20210314T070000
END:DAYLIGHT
BEGIN:STANDARD
TZOFFSETFROM:-0400
TZOFFSETTO:-0500
TZNAME:EST
DTSTART:20211107T060000
END:STANDARD
END:VTIMEZONE
BEGIN:VEVENT
DTSTART;TZID=America/New_York:20210801T103000
DTEND;TZID=America/New_York:20210801T120000
DTSTAMP:20260421T143527
CREATED:20210713T143520Z
LAST-MODIFIED:20210722T183428Z
UID:7090-1627813800-1627819200@aletheiacollegepark.com
SUMMARY:Services Back at Paint Branch
DESCRIPTION:Services will be back at Paint Branch Elementary!
URL:https://aletheiacollegepark.com/event/return-to-paint-branch-elementary/
ATTACH;FMTTYPE=image/png:https://aletheiacollegepark.com/wp-content/uploads/2021/07/Mark-Your-Calendarsgraphic.png
END:VEVENT
END:VCALENDAR