BEGIN:VCALENDAR
VERSION:2.0
PRODID:-//Aletheia College Park Church - ECPv6.11.0.1//NONSGML v1.0//EN
CALSCALE:GREGORIAN
METHOD:PUBLISH
X-ORIGINAL-URL:https://aletheiacollegepark.com
X-WR-CALDESC:Events for Aletheia College Park Church
REFRESH-INTERVAL;VALUE=DURATION:PT1H
X-Robots-Tag:noindex
X-PUBLISHED-TTL:PT1H
BEGIN:VTIMEZONE
TZID:America/New_York
BEGIN:DAYLIGHT
TZOFFSETFROM:-0500
TZOFFSETTO:-0400
TZNAME:EDT
DTSTART:20200308T070000
END:DAYLIGHT
BEGIN:STANDARD
TZOFFSETFROM:-0400
TZOFFSETTO:-0500
TZNAME:EST
DTSTART:20201101T060000
END:STANDARD
END:VTIMEZONE
BEGIN:VEVENT
DTSTART;TZID=America/New_York:20200105T100000
DTEND;TZID=America/New_York:20200105T103000
DTSTAMP:20260422T022925
CREATED:20191210T195058Z
LAST-MODIFIED:20191210T195058Z
UID:6913-1578218400-1578220200@aletheiacollegepark.com
SUMMARY:Prayer Meeting
DESCRIPTION:Our Prayer Ministry meets every Sunday morning before church service at 10am to pray for each other\, Aletheia\, and God’s work around us.
URL:https://aletheiacollegepark.com/event/prayer-meeting-2/2020-01-05/
END:VEVENT
END:VCALENDAR